BEGIN:VCALENDAR
VERSION:2.0
PRODID:icalendar-ruby
CALSCALE:GREGORIAN
METHOD:PUBLISH
BEGIN:VEVENT
DTSTAMP:20260421T125644Z
UID:838-29990@fraserlands.ca
DTSTART:20260603T023000Z
DTEND:20260603T043000Z
CLASS:PUBLIC
CREATED:20260402T112003
DESCRIPTION:The Pre-Marriage Course is a practical five-session course offe
 red by Alpha for dating or engaged couples who are exploring the idea of m
 arriage. The Pre-Marriage Course helps build a strong foundation for your 
 relationship by teaching you to:  \n\nCommunicate more effectively\nUnder
 stand each other’s needs\nResolve conflict\nKnow the importance of spend
 ing time together\nShare goals\, values\, and dreams  \n\nEach week we wi
 ll be gathering together online via Zoom where we will watch a video as a 
 group interspersed with private breakout discussions with your partner.  
 \nParticipants: Couples exploring the idea of marriage (dating or engaged)
 \nDates: Tuesdays\, May 12 - June 9\, 2026\nTime: 7:30pm - 9:30pm Online v
 ia Zoom\nRegistration\nRegistration Fee: $10 per person (e-transfer to flc
 marriageprep@fraserlands.ca) \nThe registration deadline is April 26th.\n
 For more information\, please contact us at flcmarriageprep@fraserlands.ca
LAST-MODIFIED:20260402T112003
LOCATION:Online via Zoom
SUMMARY:Alpha Pre-Marriage Course 2026
URL;VALUE=URI:https://www.fraserlands.ca/events/alpha-pre-marriage-course-2
 026/2026-06-02
ATTACH;FILENAME=flc-Pre-Marriage-Course-2026-1500x784-v3.png;FMTTYPE=image/
 png:https://dq5pwpg1q8ru0.cloudfront.net/2026/03/21/23/43/46/488c433a-26d3
 -4b59-a987-846fd4c1a67e/flc-Pre-Marriage-Course-2026-1500x784-v3.png
END:VEVENT
END:VCALENDAR
